Package: awst Version: 1.16.0 Command: /home/biocbuild/R/R/bin/R CMD build --keep-empty-dirs --no-resave-data awst StartedAt: 2025-10-13 22:41:52 -0000 (Mon, 13 Oct 2025) EndedAt: 2025-10-13 22:42:54 -0000 (Mon, 13 Oct 2025) EllapsedTime: 62.0 seconds RetCode: 0 Status: OK PackageFile: awst_1.16.0.tar.gz PackageFileSize: 448.9 KiB