Package: autonomics Version: 1.16.0 Command: /Library/Frameworks/R.framework/Resources/bin/R CMD INSTALL autonomics StartedAt: 2025-10-13 16:27:56 -0400 (Mon, 13 Oct 2025) EndedAt: 2025-10-13 16:28:42 -0400 (Mon, 13 Oct 2025) EllapsedTime: 45.4 seconds RetCode: 0 Status: OK