Package: autonomics Version: 1.16.0 Command: /Library/Frameworks/R.framework/Resources/bin/R CMD build --keep-empty-dirs --no-resave-data autonomics StartedAt: 2025-10-13 19:21:48 -0400 (Mon, 13 Oct 2025) EndedAt: 2025-10-13 19:24:21 -0400 (Mon, 13 Oct 2025) EllapsedTime: 153.0 seconds RetCode: 0 Status: OK PackageFile: autonomics_1.16.0.tar.gz PackageFileSize: 2.418 MiB