Package: attract Version: 1.60.0 Command: /home/biocbuild/bbs-3.21-bioc/R/bin/R CMD check --install=check:attract.install-out.txt --library=/home/biocbuild/bbs-3.21-bioc/R/site-library --timings attract_1.60.0.tar.gz StartedAt: 2025-10-01 20:57:28 -0400 (Wed, 01 Oct 2025) EndedAt: 2025-10-01 21:03:49 -0400 (Wed, 01 Oct 2025) EllapsedTime: 380.4 seconds RetCode: 0 Status: OK CheckDir: attract.Rcheck Warnings: 0