Package: attract Version: 1.60.0 Command: /home/biocbuild/bbs-3.21-bioc/R/bin/R CMD build --keep-empty-dirs --no-resave-data attract StartedAt: 2025-10-01 16:16:33 -0400 (Wed, 01 Oct 2025) EndedAt: 2025-10-01 16:18:44 -0400 (Wed, 01 Oct 2025) EllapsedTime: 131.1 seconds RetCode: 0 Status: OK PackageFile: attract_1.60.0.tar.gz PackageFileSize: 4.295 MiB