Package: attract Version: 1.60.0 Command: rm -rf attract.buildbin-libdir && mkdir attract.buildbin-libdir && /Users/biocbuild/BBS/utils/build-universal.sh attract_1.60.0.tar.gz /Library/Frameworks/R.framework/Resources/bin/R attract.buildbin-libdir StartedAt: 2025-04-22 00:33:46 -0400 (Tue, 22 Apr 2025) EndedAt: 2025-04-22 00:34:20 -0400 (Tue, 22 Apr 2025) EllapsedTime: 33.6 seconds RetCode: 0 Status: OK PackageFile: attract_1.60.0.tgz PackageFileSize: 4.364 MiB