Package: attract Version: 1.60.0 Command: /home/biocbuild/R/R/bin/R CMD build --keep-empty-dirs --no-resave-data attract StartedAt: 2025-09-29 22:41:24 -0000 (Mon, 29 Sep 2025) EndedAt: 2025-09-29 22:45:08 -0000 (Mon, 29 Sep 2025) EllapsedTime: 224.1 seconds RetCode: 0 Status: OK PackageFile: attract_1.60.0.tar.gz PackageFileSize: 4.291 MiB