Package: attract Version: 1.60.0 Command: /Library/Frameworks/R.framework/Resources/bin/R CMD INSTALL attract StartedAt: 2025-09-29 17:48:15 -0400 (Mon, 29 Sep 2025) EndedAt: 2025-09-29 17:48:42 -0400 (Mon, 29 Sep 2025) EllapsedTime: 26.8 seconds RetCode: 0 Status: OK