Package: attract Version: 1.60.0 Command: /Library/Frameworks/R.framework/Resources/bin/R CMD check --install=check:attract.install-out.txt --library=/Library/Frameworks/R.framework/Resources/library --no-vignettes --timings attract_1.60.0.tar.gz StartedAt: 2025-09-30 13:03:49 -0400 (Tue, 30 Sep 2025) EndedAt: 2025-09-30 13:09:10 -0400 (Tue, 30 Sep 2025) EllapsedTime: 321.0 seconds RetCode: 0 Status: OK CheckDir: attract.Rcheck Warnings: 0