Package: attract Version: 1.60.0 Command: rm -rf attract.buildbin-libdir && mkdir attract.buildbin-libdir && /Users/biocbuild/BBS/utils/build-universal.sh attract_1.60.0.tar.gz /Library/Frameworks/R.framework/Resources/bin/R attract.buildbin-libdir StartedAt: 2025-10-01 17:26:04 -0400 (Wed, 01 Oct 2025) EndedAt: 2025-10-01 17:26:34 -0400 (Wed, 01 Oct 2025) EllapsedTime: 29.9 seconds RetCode: 0 Status: OK PackageFile: attract_1.60.0.tgz PackageFileSize: 4.364 MiB