Package: atena Version: 1.14.1 Command: /Library/Frameworks/R.framework/Resources/bin/R CMD INSTALL atena StartedAt: 2025-10-13 17:15:07 -0400 (Mon, 13 Oct 2025) EndedAt: 2025-10-13 17:15:53 -0400 (Mon, 13 Oct 2025) EllapsedTime: 46.1 seconds RetCode: 0 Status: OK