Package: atena Version: 1.14.1 Command: /Library/Frameworks/R.framework/Resources/bin/R CMD check --install=check:atena.install-out.txt --library=/Library/Frameworks/R.framework/Resources/library --no-vignettes --timings atena_1.14.1.tar.gz StartedAt: 2025-10-14 13:03:47 -0400 (Tue, 14 Oct 2025) EndedAt: 2025-10-14 13:11:17 -0400 (Tue, 14 Oct 2025) EllapsedTime: 450.2 seconds RetCode: 0 Status: OK CheckDir: atena.Rcheck Warnings: 0