Package: atena Version: 1.14.1 Command: /Library/Frameworks/R.framework/Resources/bin/R CMD build --keep-empty-dirs --no-resave-data atena StartedAt: 2025-10-13 19:17:49 -0400 (Mon, 13 Oct 2025) EndedAt: 2025-10-13 19:30:22 -0400 (Mon, 13 Oct 2025) EllapsedTime: 753.2 seconds RetCode: 0 Status: OK PackageFile: atena_1.14.1.tar.gz PackageFileSize: 1.283 MiB