Package: atena Version: 1.14.1 Command: rm -rf atena.buildbin-libdir && mkdir atena.buildbin-libdir && /Users/biocbuild/BBS/utils/build-universal.sh atena_1.14.1.tar.gz /Library/Frameworks/R.framework/Resources/bin/R atena.buildbin-libdir StartedAt: 2025-10-15 17:27:00 -0400 (Wed, 15 Oct 2025) EndedAt: 2025-10-15 17:27:55 -0400 (Wed, 15 Oct 2025) EllapsedTime: 55.2 seconds RetCode: 0 Status: OK PackageFile: atena_1.14.1.tgz PackageFileSize: 1.757 MiB