Package: assorthead Version: 1.2.0 Command: /home/biocbuild/bbs-3.21-bioc/R/bin/R CMD check --install=check:assorthead.install-out.txt --library=/home/biocbuild/bbs-3.21-bioc/R/site-library --timings assorthead_1.2.0.tar.gz StartedAt: 2025-10-15 20:51:24 -0400 (Wed, 15 Oct 2025) EndedAt: 2025-10-15 20:51:37 -0400 (Wed, 15 Oct 2025) EllapsedTime: 13.0 seconds RetCode: 0 Status: OK CheckDir: assorthead.Rcheck Warnings: 0