Package: assorthead Version: 1.2.0 Command: /Library/Frameworks/R.framework/Resources/bin/R CMD build --keep-empty-dirs --no-resave-data assorthead StartedAt: 2025-10-13 19:15:04 -0400 (Mon, 13 Oct 2025) EndedAt: 2025-10-13 19:15:14 -0400 (Mon, 13 Oct 2025) EllapsedTime: 9.2 seconds RetCode: 0 Status: OK PackageFile: assorthead_1.2.0.tar.gz PackageFileSize: 1.744 MiB