Package: artMS Version: 1.26.0 Command: /home/biocbuild/bbs-3.21-bioc/R/bin/R CMD check --install=check:artMS.install-out.txt --library=/home/biocbuild/bbs-3.21-bioc/R/site-library --timings artMS_1.26.0.tar.gz StartedAt: 2025-10-15 20:49:56 -0400 (Wed, 15 Oct 2025) EndedAt: 2025-10-15 20:53:23 -0400 (Wed, 15 Oct 2025) EllapsedTime: 206.4 seconds RetCode: 0 Status: OK CheckDir: artMS.Rcheck Warnings: 0