Package: artMS Version: 1.26.0 Command: /home/biocbuild/bbs-3.21-bioc/R/bin/R CMD build --keep-empty-dirs --no-resave-data artMS StartedAt: 2025-10-15 16:11:48 -0400 (Wed, 15 Oct 2025) EndedAt: 2025-10-15 16:12:43 -0400 (Wed, 15 Oct 2025) EllapsedTime: 55.0 seconds RetCode: 0 Status: OK PackageFile: artMS_1.26.0.tar.gz PackageFileSize: 3.978 MiB