Package: artMS Version: 1.26.0 Command: /home/biocbuild/R/R/bin/R CMD check --install=check:artMS.install-out.txt --library=/home/biocbuild/R/R/site-library --no-vignettes --timings artMS_1.26.0.tar.gz StartedAt: 2025-10-14 06:16:25 -0000 (Tue, 14 Oct 2025) EndedAt: 2025-10-14 06:20:56 -0000 (Tue, 14 Oct 2025) EllapsedTime: 271.5 seconds RetCode: 0 Status: OK CheckDir: artMS.Rcheck Warnings: 0