Package: arrayQualityMetrics Version: 3.64.0 Command: /home/biocbuild/bbs-3.21-bioc/R/bin/R CMD check --install=check:arrayQualityMetrics.install-out.txt --library=/home/biocbuild/bbs-3.21-bioc/R/site-library --timings arrayQualityMetrics_3.64.0.tar.gz StartedAt: 2025-10-15 20:49:45 -0400 (Wed, 15 Oct 2025) EndedAt: 2025-10-15 20:59:00 -0400 (Wed, 15 Oct 2025) EllapsedTime: 554.8 seconds RetCode: 0 Status: OK CheckDir: arrayQualityMetrics.Rcheck Warnings: 0