Package: arrayQualityMetrics Version: 3.64.0 Command: /Library/Frameworks/R.framework/Resources/bin/R CMD check --install=check:arrayQualityMetrics.install-out.txt --library=/Library/Frameworks/R.framework/Resources/library --no-vignettes --timings arrayQualityMetrics_3.64.0.tar.gz StartedAt: 2025-10-14 12:58:23 -0400 (Tue, 14 Oct 2025) EndedAt: 2025-10-14 13:01:15 -0400 (Tue, 14 Oct 2025) EllapsedTime: 172.2 seconds RetCode: 0 Status: OK CheckDir: arrayQualityMetrics.Rcheck Warnings: 0