Package: arrayQuality Version: 1.86.0 Command: /home/biocbuild/bbs-3.21-bioc/R/bin/R CMD INSTALL arrayQuality StartedAt: 2025-09-21 15:06:11 -0400 (Sun, 21 Sep 2025) EndedAt: 2025-09-21 15:06:29 -0400 (Sun, 21 Sep 2025) EllapsedTime: 18.0 seconds RetCode: 0 Status: OK