Package: antiProfiles Version: 1.48.0 Command: /home/biocbuild/bbs-3.21-bioc/R/bin/R CMD INSTALL antiProfiles StartedAt: 2025-10-05 15:03:54 -0400 (Sun, 05 Oct 2025) EndedAt: 2025-10-05 15:04:08 -0400 (Sun, 05 Oct 2025) EllapsedTime: 14.1 seconds RetCode: 0 Status: OK