Package: antiProfiles Version: 1.48.0 Command: /Library/Frameworks/R.framework/Resources/bin/R CMD INSTALL antiProfiles StartedAt: 2025-10-13 15:08:31 -0400 (Mon, 13 Oct 2025) EndedAt: 2025-10-13 15:09:04 -0400 (Mon, 13 Oct 2025) EllapsedTime: 33.3 seconds RetCode: 0 Status: OK