Package: antiProfiles Version: 1.48.0 Command: /Library/Frameworks/R.framework/Resources/bin/R CMD check --install=check:antiProfiles.install-out.txt --library=/Library/Frameworks/R.framework/Resources/library --no-vignettes --timings antiProfiles_1.48.0.tar.gz StartedAt: 2025-10-07 13:30:48 -0400 (Tue, 07 Oct 2025) EndedAt: 2025-10-07 13:31:17 -0400 (Tue, 07 Oct 2025) EllapsedTime: 28.2 seconds RetCode: 0 Status: OK CheckDir: antiProfiles.Rcheck Warnings: 0