Package: antiProfiles Version: 1.48.0 Command: /Library/Frameworks/R.framework/Resources/bin/R CMD build --keep-empty-dirs --no-resave-data antiProfiles StartedAt: 2025-10-06 19:14:07 -0400 (Mon, 06 Oct 2025) EndedAt: 2025-10-06 19:14:20 -0400 (Mon, 06 Oct 2025) EllapsedTime: 13.7 seconds RetCode: 0 Status: OK PackageFile: antiProfiles_1.48.0.tar.gz PackageFileSize: 110.4 KiB