Package: antiProfiles Version: 1.48.0 Command: rm -rf antiProfiles.buildbin-libdir && mkdir antiProfiles.buildbin-libdir && /Users/biocbuild/BBS/utils/build-universal.sh antiProfiles_1.48.0.tar.gz /Library/Frameworks/R.framework/Resources/bin/R antiProfiles.buildbin-libdir StartedAt: 2025-10-08 19:43:40 -0400 (Wed, 08 Oct 2025) EndedAt: 2025-10-08 19:43:45 -0400 (Wed, 08 Oct 2025) EllapsedTime: 5.5 seconds RetCode: 0 Status: OK PackageFile: antiProfiles_1.48.0.tgz PackageFileSize: 269 KiB