Package: anota2seq Version: 1.30.0 Command: rm -rf anota2seq.buildbin-libdir && mkdir anota2seq.buildbin-libdir && E:\biocbuild\bbs-3.21-bioc\R\bin\R.exe CMD INSTALL --build --library=anota2seq.buildbin-libdir anota2seq_1.30.0.tar.gz StartedAt: 2025-08-15 08:45:43 -0400 (Fri, 15 Aug 2025) EndedAt: 2025-08-15 08:46:46 -0400 (Fri, 15 Aug 2025) EllapsedTime: 62.7 seconds RetCode: 0 Status: OK PackageFile: anota2seq_1.30.0.zip PackageFileSize: 1.556 MiB