Package: anota2seq Version: 1.30.0 Command: /home/biocbuild/bbs-3.21-bioc/R/bin/R CMD INSTALL anota2seq StartedAt: 2025-10-15 15:20:35 -0400 (Wed, 15 Oct 2025) EndedAt: 2025-10-15 15:21:05 -0400 (Wed, 15 Oct 2025) EllapsedTime: 30.5 seconds RetCode: 0 Status: OK