Package: anota2seq Version: 1.30.0 Command: /home/biocbuild/bbs-3.21-bioc/R/bin/R CMD build --keep-empty-dirs --no-resave-data anota2seq StartedAt: 2025-10-15 16:11:00 -0400 (Wed, 15 Oct 2025) EndedAt: 2025-10-15 16:13:22 -0400 (Wed, 15 Oct 2025) EllapsedTime: 142.2 seconds RetCode: 0 Status: OK PackageFile: anota2seq_1.30.0.tar.gz PackageFileSize: 1.002 MiB