Package: anota2seq Version: 1.30.0 Command: /Library/Frameworks/R.framework/Resources/bin/R CMD INSTALL anota2seq StartedAt: 2025-10-13 15:39:34 -0400 (Mon, 13 Oct 2025) EndedAt: 2025-10-13 15:40:46 -0400 (Mon, 13 Oct 2025) EllapsedTime: 71.3 seconds RetCode: 0 Status: OK