Package: anota2seq Version: 1.30.0 Command: /Library/Frameworks/R.framework/Resources/bin/R CMD check --install=check:anota2seq.install-out.txt --library=/Library/Frameworks/R.framework/Resources/library --no-vignettes --timings anota2seq_1.30.0.tar.gz StartedAt: 2025-10-14 00:02:40 -0400 (Tue, 14 Oct 2025) EndedAt: 2025-10-14 00:12:18 -0400 (Tue, 14 Oct 2025) EllapsedTime: 578.7 seconds RetCode: 0 Status: OK CheckDir: anota2seq.Rcheck Warnings: 0