Package: anota2seq Version: 1.30.0 Command: /Library/Frameworks/R.framework/Resources/bin/R CMD INSTALL anota2seq StartedAt: 2025-04-21 15:13:13 -0400 (Mon, 21 Apr 2025) EndedAt: 2025-04-21 15:13:26 -0400 (Mon, 21 Apr 2025) EllapsedTime: 13.0 seconds RetCode: 0 Status: OK