Package: anota2seq Version: 1.30.0 Command: rm -rf anota2seq.buildbin-libdir && mkdir anota2seq.buildbin-libdir && /Users/biocbuild/BBS/utils/build-universal.sh anota2seq_1.30.0.tar.gz /Library/Frameworks/R.framework/Resources/bin/R anota2seq.buildbin-libdir StartedAt: 2025-04-21 22:26:12 -0400 (Mon, 21 Apr 2025) EndedAt: 2025-04-21 22:26:25 -0400 (Mon, 21 Apr 2025) EllapsedTime: 13.4 seconds RetCode: 0 Status: OK PackageFile: anota2seq_1.30.0.tgz PackageFileSize: 1.501 MiB