Package: anota2seq Version: 1.30.0 Command: /Library/Frameworks/R.framework/Resources/bin/R CMD INSTALL anota2seq StartedAt: 2025-10-13 16:20:57 -0400 (Mon, 13 Oct 2025) EndedAt: 2025-10-13 16:21:34 -0400 (Mon, 13 Oct 2025) EllapsedTime: 36.2 seconds RetCode: 0 Status: OK