Package: annotatr Version: 1.34.0 Command: /home/biocbuild/R/R/bin/R CMD build --keep-empty-dirs --no-resave-data annotatr StartedAt: 2025-10-13 22:34:31 -0000 (Mon, 13 Oct 2025) EndedAt: 2025-10-13 22:37:21 -0000 (Mon, 13 Oct 2025) EllapsedTime: 170.1 seconds RetCode: 0 Status: OK PackageFile: annotatr_1.34.0.tar.gz PackageFileSize: 2.423 MiB