Package: annotationTools Version: 1.82.0 Command: /Library/Frameworks/R.framework/Resources/bin/R CMD INSTALL annotationTools StartedAt: 2025-10-13 15:22:10 -0400 (Mon, 13 Oct 2025) EndedAt: 2025-10-13 15:22:16 -0400 (Mon, 13 Oct 2025) EllapsedTime: 6.7 seconds RetCode: 0 Status: OK