Package: annotationTools Version: 1.82.0 Command: /Library/Frameworks/R.framework/Resources/bin/R CMD check --install=check:annotationTools.install-out.txt --library=/Library/Frameworks/R.framework/Resources/library --no-vignettes --timings annotationTools_1.82.0.tar.gz StartedAt: 2025-10-14 00:02:00 -0400 (Tue, 14 Oct 2025) EndedAt: 2025-10-14 00:03:07 -0400 (Tue, 14 Oct 2025) EllapsedTime: 67.4 seconds RetCode: 0 Status: OK CheckDir: annotationTools.Rcheck Warnings: 0