Package: annotationTools Version: 1.82.0 Command: rm -rf annotationTools.buildbin-libdir && mkdir annotationTools.buildbin-libdir && /Users/biocbuild/BBS/utils/build-universal.sh annotationTools_1.82.0.tar.gz /Library/Frameworks/R.framework/Resources/bin/R annotationTools.buildbin-libdir StartedAt: 2025-10-14 12:50:04 -0400 (Tue, 14 Oct 2025) EndedAt: 2025-10-14 12:50:12 -0400 (Tue, 14 Oct 2025) EllapsedTime: 8.6 seconds RetCode: 0 Status: OK PackageFile: annotationTools_1.82.0.tgz PackageFileSize: 392.5 KiB