Package: annmap Version: 1.50.0 Command: /Library/Frameworks/R.framework/Resources/bin/R CMD INSTALL annmap StartedAt: 2025-10-13 15:51:21 -0400 (Mon, 13 Oct 2025) EndedAt: 2025-10-13 15:52:10 -0400 (Mon, 13 Oct 2025) EllapsedTime: 48.8 seconds RetCode: 0 Status: OK