Package: annmap Version: 1.50.0 Command: /Library/Frameworks/R.framework/Resources/bin/R CMD check --install=check:annmap.install-out.txt --library=/Library/Frameworks/R.framework/Resources/library --no-vignettes --timings annmap_1.50.0.tar.gz StartedAt: 2025-10-14 00:00:18 -0400 (Tue, 14 Oct 2025) EndedAt: 2025-10-14 00:05:40 -0400 (Tue, 14 Oct 2025) EllapsedTime: 322.1 seconds RetCode: 0 Status: WARNINGS CheckDir: annmap.Rcheck Warnings: 1