Package: annmap Version: 1.50.0 Command: /home/biocbuild/R/R/bin/R CMD INSTALL annmap StartedAt: 2025-10-13 20:43:28 -0000 (Mon, 13 Oct 2025) EndedAt: 2025-10-13 20:44:01 -0000 (Mon, 13 Oct 2025) EllapsedTime: 32.8 seconds RetCode: 0 Status: OK