Package: annmap Version: 1.50.0 Command: /Library/Frameworks/R.framework/Resources/bin/R CMD check --install=check:annmap.install-out.txt --library=/Library/Frameworks/R.framework/Resources/library --no-vignettes --timings annmap_1.50.0.tar.gz StartedAt: 2025-04-21 18:07:35 -0400 (Mon, 21 Apr 2025) EndedAt: 2025-04-21 18:08:38 -0400 (Mon, 21 Apr 2025) EllapsedTime: 62.8 seconds RetCode: 0 Status: WARNINGS CheckDir: annmap.Rcheck Warnings: 1