Package: annmap Version: 1.50.0 Command: rm -rf annmap.buildbin-libdir && mkdir annmap.buildbin-libdir && /Users/biocbuild/BBS/utils/build-universal.sh annmap_1.50.0.tar.gz /Library/Frameworks/R.framework/Resources/bin/R annmap.buildbin-libdir StartedAt: 2025-04-21 22:26:04 -0400 (Mon, 21 Apr 2025) EndedAt: 2025-04-21 22:26:15 -0400 (Mon, 21 Apr 2025) EllapsedTime: 11.2 seconds RetCode: 0 Status: OK PackageFile: annmap_1.50.0.tgz PackageFileSize: 1.287 MiB