Package: annmap Version: 1.50.0 Command: /Library/Frameworks/R.framework/Resources/bin/R CMD build --keep-empty-dirs --no-resave-data annmap StartedAt: 2025-10-13 19:01:02 -0400 (Mon, 13 Oct 2025) EndedAt: 2025-10-13 19:01:50 -0400 (Mon, 13 Oct 2025) EllapsedTime: 47.9 seconds RetCode: 0 Status: OK PackageFile: annmap_1.50.0.tar.gz PackageFileSize: 1.005 MiB