Package: annaffy Version: 1.80.0 Command: /home/biocbuild/bbs-3.21-bioc/R/bin/R CMD check --install=check:annaffy.install-out.txt --library=/home/biocbuild/bbs-3.21-bioc/R/site-library --timings annaffy_1.80.0.tar.gz StartedAt: 2025-10-15 20:46:22 -0400 (Wed, 15 Oct 2025) EndedAt: 2025-10-15 20:48:10 -0400 (Wed, 15 Oct 2025) EllapsedTime: 108.2 seconds RetCode: 0 Status: WARNINGS CheckDir: annaffy.Rcheck Warnings: 1