Package: animalcules Version: 1.24.0 Command: /Library/Frameworks/R.framework/Resources/bin/R CMD INSTALL animalcules StartedAt: 2025-10-09 15:38:09 -0400 (Thu, 09 Oct 2025) EndedAt: 2025-10-09 15:39:22 -0400 (Thu, 09 Oct 2025) EllapsedTime: 73.2 seconds RetCode: 0 Status: OK