Package: animalcules Version: 1.24.0 Command: /Library/Frameworks/R.framework/Resources/bin/R CMD check --install=check:animalcules.install-out.txt --library=/Library/Frameworks/R.framework/Resources/library --no-vignettes --timings animalcules_1.24.0.tar.gz StartedAt: 2025-10-10 00:00:40 -0400 (Fri, 10 Oct 2025) EndedAt: 2025-10-10 00:10:20 -0400 (Fri, 10 Oct 2025) EllapsedTime: 580.2 seconds RetCode: 0 Status: OK CheckDir: animalcules.Rcheck Warnings: 0