Package: animalcules Version: 1.24.0 Command: /Library/Frameworks/R.framework/Resources/bin/R CMD check --install=check:animalcules.install-out.txt --library=/Library/Frameworks/R.framework/Resources/library --no-vignettes --timings animalcules_1.24.0.tar.gz StartedAt: 2025-04-21 19:02:56 -0400 (Mon, 21 Apr 2025) EndedAt: 2025-04-21 19:08:01 -0400 (Mon, 21 Apr 2025) EllapsedTime: 304.5 seconds RetCode: 0 Status: OK CheckDir: animalcules.Rcheck Warnings: 0