Package: animalcules Version: 1.24.0 Command: /home/biocbuild/R/R/bin/R CMD build --keep-empty-dirs --no-resave-data animalcules StartedAt: 2025-10-09 22:33:01 -0000 (Thu, 09 Oct 2025) EndedAt: 2025-10-09 22:34:10 -0000 (Thu, 09 Oct 2025) EllapsedTime: 69.0 seconds RetCode: 1 Status: ERROR PackageFile: None PackageFileSize: NA